BEGIN:VCALENDAR
VERSION:2.0
PRODID:-//Trainings Akademie - ECPv6.15.20//NONSGML v1.0//EN
CALSCALE:GREGORIAN
METHOD:PUBLISH
X-WR-CALNAME:Trainings Akademie
X-ORIGINAL-URL:https://training.12hp.at
X-WR-CALDESC:Veranstaltungen für Trainings Akademie
REFRESH-INTERVAL;VALUE=DURATION:PT1H
X-Robots-Tag:noindex
X-PUBLISHED-TTL:PT1H
BEGIN:VTIMEZONE
TZID:Europe/Berlin
BEGIN:DAYLIGHT
TZOFFSETFROM:+0100
TZOFFSETTO:+0200
TZNAME:CEST
DTSTART:20230326T010000
END:DAYLIGHT
BEGIN:STANDARD
TZOFFSETFROM:+0200
TZOFFSETTO:+0100
TZNAME:CET
DTSTART:20231029T010000
END:STANDARD
BEGIN:DAYLIGHT
TZOFFSETFROM:+0100
TZOFFSETTO:+0200
TZNAME:CEST
DTSTART:20240331T010000
END:DAYLIGHT
BEGIN:STANDARD
TZOFFSETFROM:+0200
TZOFFSETTO:+0100
TZNAME:CET
DTSTART:20241027T010000
END:STANDARD
BEGIN:DAYLIGHT
TZOFFSETFROM:+0100
TZOFFSETTO:+0200
TZNAME:CEST
DTSTART:20250330T010000
END:DAYLIGHT
BEGIN:STANDARD
TZOFFSETFROM:+0200
TZOFFSETTO:+0100
TZNAME:CET
DTSTART:20251026T010000
END:STANDARD
END:VTIMEZONE
BEGIN:VEVENT
DTSTART;TZID=Europe/Berlin:20240604T171500
DTEND;TZID=Europe/Berlin:20240604T191500
DTSTAMP:20260422T093328
CREATED:20240131T212017Z
LAST-MODIFIED:20240227T212719Z
UID:3120-1717521300-1717528500@training.12hp.at
SUMMARY:Office Microsoft 365 Teil 6
DESCRIPTION:n diesem Kurs werden die einzelnen Programme der ehemaligen MS-Office Gruppe jetzt Microsoft 365 erklärt. Word\, Excel\, PowerPoint sind die Schwerpunkte\, doch auch andere Programme\, wie Outlook\, Teams\, OneNote\, etc.\, können bei Bedarf erläutert werden. \nVorkenntnisse: Windows-Grundkenntnisse
URL:https://training.12hp.at/event/office-microsoft-365-teil-6/
LOCATION:VHS-Groß Enzersdorf-EDV Raum\, Schießstattring 3\, Groß Enzersdorf\, 2301\, Österreich
CATEGORIES:VHS-Computer-Internet-Multimedia,VHS-Groß Enzersdorf
ATTACH;FMTTYPE=image/jpeg:https://training.12hp.at/wp-content/uploads/2019/08/ipad-249417_640.jpg
ORGANIZER;CN="VHS-Gro%C3%9F Enzersdorf":MAILTO:vhs@gross-enzersdorf.gv.at
END:VEVENT
BEGIN:VEVENT
DTSTART;TZID=Europe/Berlin:20240611T171500
DTEND;TZID=Europe/Berlin:20240611T191500
DTSTAMP:20260422T093328
CREATED:20200414T101744Z
LAST-MODIFIED:20240103T111401Z
UID:2310-1718126100-1718133300@training.12hp.at
SUMMARY:Internet für Generation 50+Teil 1
DESCRIPTION:Wir behandeln alle wesentlichen Kenntnisse und Fertigkeiten\, die für Internetnutzung\, effektive Informationssuche\, Online-Kommunikation und E-Mail-Nutzung benötigt werden. Wir behandeln die unterschiedlichen Browser (IE\, Edge\, Firefox\, etc.) und die verschiedenen Möglichkeiten der E-Mail Nutzung mittels online oder lokalen Programmen.
URL:https://training.12hp.at/event/internet-fuer-generation-50abgesagt/
LOCATION:VHS-Groß Enzersdorf-EDV Raum\, Schießstattring 3\, Groß Enzersdorf\, 2301\, Österreich
CATEGORIES:VHS-Computer-Internet-Multimedia,VHS-Groß Enzersdorf
ATTACH;FMTTYPE=image/png:https://training.12hp.at/wp-content/uploads/2019/04/Linkgrafik.png
ORGANIZER;CN="VHS-Gro%C3%9F Enzersdorf":MAILTO:vhs@gross-enzersdorf.gv.at
END:VEVENT
BEGIN:VEVENT
DTSTART;TZID=Europe/Berlin:20240618T171500
DTEND;TZID=Europe/Berlin:20240618T191500
DTSTAMP:20260422T093328
CREATED:20200913T204524Z
LAST-MODIFIED:20240131T212205Z
UID:2594-1718730900-1718738100@training.12hp.at
SUMMARY:Internet für Generation 50+ Teil 2
DESCRIPTION:Wir behandeln alle wesentlichen Kenntnisse und Fertigkeiten\, die für Internetnutzung\, effektive Informationssuche\, Online-Kommunikation und E-Mail-Nutzung benötigt werden. Wir behandeln die unterschiedlichen Browser (IE\, Edge\, Firefox\, etc.) und die verschiedenen Möglichkeiten der E-Mail Nutzung mittels online oder lokalen Programmen.
URL:https://training.12hp.at/event/internet-fuer-generation-50-4/
LOCATION:VHS-Groß Enzersdorf-EDV Raum\, Schießstattring 3\, Groß Enzersdorf\, 2301\, Österreich
CATEGORIES:VHS-Computer-Internet-Multimedia,VHS-Groß Enzersdorf
ATTACH;FMTTYPE=image/png:https://training.12hp.at/wp-content/uploads/2019/04/Linkgrafik.png
ORGANIZER;CN="VHS-Gro%C3%9F Enzersdorf":MAILTO:vhs@gross-enzersdorf.gv.at
END:VEVENT
BEGIN:VEVENT
DTSTART;TZID=Europe/Berlin:20240625T171500
DTEND;TZID=Europe/Berlin:20240625T191500
DTSTAMP:20260422T093328
CREATED:20200913T204425Z
LAST-MODIFIED:20240131T212244Z
UID:2595-1719335700-1719342900@training.12hp.at
SUMMARY:Internet für Generation 50+ Teil 3
DESCRIPTION:Wir behandeln alle wesentlichen Kenntnisse und Fertigkeiten\, die für Internetnutzung\, effektive Informationssuche\, Online-Kommunikation und E-Mail-Nutzung benötigt werden. Wir behandeln die unterschiedlichen Browser (IE\, Edge\, Firefox\, etc.) und die verschiedenen Möglichkeiten der E-Mail Nutzung mittels online oder lokalen Programmen.
URL:https://training.12hp.at/event/internet-fuer-generation-50/
LOCATION:VHS-Groß Enzersdorf-EDV Raum\, Schießstattring 3\, Groß Enzersdorf\, 2301\, Österreich
CATEGORIES:VHS-Computer-Internet-Multimedia,VHS-Groß Enzersdorf
ATTACH;FMTTYPE=image/png:https://training.12hp.at/wp-content/uploads/2019/04/Linkgrafik.png
ORGANIZER;CN="VHS-Gro%C3%9F Enzersdorf":MAILTO:vhs@gross-enzersdorf.gv.at
END:VEVENT
END:VCALENDAR